BEGIN:VCALENDAR
VERSION:2.0
PRODID:-//CT Center for the Book - ECPv6.15.17.1//NONSGML v1.0//EN
CALSCALE:GREGORIAN
METHOD:PUBLISH
X-ORIGINAL-URL:https://ctcenterforthebook.org
X-WR-CALDESC:Events for CT Center for the Book
REFRESH-INTERVAL;VALUE=DURATION:PT1H
X-Robots-Tag:noindex
X-PUBLISHED-TTL:PT1H
BEGIN:VTIMEZONE
TZID:America/New_York
BEGIN:DAYLIGHT
TZOFFSETFROM:-0500
TZOFFSETTO:-0400
TZNAME:EDT
DTSTART:20250309T070000
END:DAYLIGHT
BEGIN:STANDARD
TZOFFSETFROM:-0400
TZOFFSETTO:-0500
TZNAME:EST
DTSTART:20251102T060000
END:STANDARD
BEGIN:DAYLIGHT
TZOFFSETFROM:-0500
TZOFFSETTO:-0400
TZNAME:EDT
DTSTART:20260308T070000
END:DAYLIGHT
BEGIN:STANDARD
TZOFFSETFROM:-0400
TZOFFSETTO:-0500
TZNAME:EST
DTSTART:20261101T060000
END:STANDARD
BEGIN:DAYLIGHT
TZOFFSETFROM:-0500
TZOFFSETTO:-0400
TZNAME:EDT
DTSTART:20270314T070000
END:DAYLIGHT
BEGIN:STANDARD
TZOFFSETFROM:-0400
TZOFFSETTO:-0500
TZNAME:EST
DTSTART:20271107T060000
END:STANDARD
END:VTIMEZONE
BEGIN:VEVENT
DTSTART;TZID=America/New_York:20260129T173000
DTEND;TZID=America/New_York:20260129T190000
DTSTAMP:20260423T064317
CREATED:20260107T143514Z
LAST-MODIFIED:20260107T143514Z
UID:19625-1769707800-1769713200@ctcenterforthebook.org
SUMMARY:Whitney Literary Society to Debut at New Haven Museum
DESCRIPTION:Join NHM on Thurs.\, Jan. 29\, 2026\, at 5:30 p.m. (snow date Feb. 5\, 2026\, 5:30 p.m.) as we debut the Whitney Literary Society\, an informal\, bimonthly book discussion delving into the colorful history of New Haven. Each Whitney Literary Society event will cover a new book. For details click here: newhavenmuseum.org/52580-2/ \nThe bimonthly book discussion will delve into the colorful history of New Haven\, which was once the center of governance\, education\, trade\, and culture in Connecticut. The first discussion will include several chapters from “The Case of the Piglet’s Paternity: Trials from the New Haven Colony\, 1619-1963” by Jon C. Blue on\, which explores judicial trials in the early New Haven Colony.
URL:https://ctcenterforthebook.org/event/whitney-literary-society-to-debut-at-new-haven-museum/
CATEGORIES:Discussion,January 2026,Talks, Lectures, Presentations,Written & Spoken Word
ATTACH;FMTTYPE=image/jpeg:https://ctcenterforthebook.org/wp-content/uploads/sites/7/2026/01/599706192_1475608291232146_2126478036494186891_n.jpg
END:VEVENT
END:VCALENDAR