BEGIN:VCALENDAR
VERSION:2.0
PRODID:-//CT Center for the Book - ECPv6.15.17.1//NONSGML v1.0//EN
CALSCALE:GREGORIAN
METHOD:PUBLISH
X-ORIGINAL-URL:https://ctcenterforthebook.org
X-WR-CALDESC:Events for CT Center for the Book
REFRESH-INTERVAL;VALUE=DURATION:PT1H
X-Robots-Tag:noindex
X-PUBLISHED-TTL:PT1H
BEGIN:VTIMEZONE
TZID:America/New_York
BEGIN:DAYLIGHT
TZOFFSETFROM:-0500
TZOFFSETTO:-0400
TZNAME:EDT
DTSTART:20250309T070000
END:DAYLIGHT
BEGIN:STANDARD
TZOFFSETFROM:-0400
TZOFFSETTO:-0500
TZNAME:EST
DTSTART:20251102T060000
END:STANDARD
BEGIN:DAYLIGHT
TZOFFSETFROM:-0500
TZOFFSETTO:-0400
TZNAME:EDT
DTSTART:20260308T070000
END:DAYLIGHT
BEGIN:STANDARD
TZOFFSETFROM:-0400
TZOFFSETTO:-0500
TZNAME:EST
DTSTART:20261101T060000
END:STANDARD
BEGIN:DAYLIGHT
TZOFFSETFROM:-0500
TZOFFSETTO:-0400
TZNAME:EDT
DTSTART:20270314T070000
END:DAYLIGHT
BEGIN:STANDARD
TZOFFSETFROM:-0400
TZOFFSETTO:-0500
TZNAME:EST
DTSTART:20271107T060000
END:STANDARD
END:VTIMEZONE
BEGIN:VEVENT
DTSTART;TZID=America/New_York:20260408T183000
DTEND;TZID=America/New_York:20260408T200000
DTSTAMP:20260420T062152
CREATED:20260310T151848Z
LAST-MODIFIED:20260310T151848Z
UID:19679-1775673000-1775678400@ctcenterforthebook.org
SUMMARY:An Evening with Author Kat Rosenfield
DESCRIPTION:New York Times-bestselling author Kat Rosenfield will join the Friends on Wednesday\, April 8 from 6:30-8 p.m. in the Friends program room to discuss How to Survive in the Woods her recently published thriller novel. She will be in conversation with New York Times-bestselling mystery author Lynne Constantine. Set in Maine’s Hundred Mile Wilderness—the treacherous final stretch of the storied Appalachian Trail\, this heart-stopping\, psychologically rich tale of passion\, betrayal and control takes readers on a twisty journey deep into Maine’s back country and in the dark minds of an unforgettable cast of characters. “This gripping story will shock readers from the beginning and keep them guessing until the end”— Library Journal. How to Survive in the Woods is being adapted by Amazon MGM for feature film\, with Denise Di Novi (Heathers) producing.
URL:https://ctcenterforthebook.org/event/an-evening-with-author-kat-rosenfield/
CATEGORIES:April 2026,Discussion,Talks, Lectures, Presentations,Written & Spoken Word
ATTACH;FMTTYPE=image/jpeg:https://ctcenterforthebook.org/wp-content/uploads/sites/7/2026/03/FSPL_2026_Spring_Author_Rosenfield_web.jpg
END:VEVENT
BEGIN:VEVENT
DTSTART;TZID=America/New_York:20260305T180000
DTEND;TZID=America/New_York:20260305T190000
DTSTAMP:20260420T062152
CREATED:20260107T145251Z
LAST-MODIFIED:20260107T145510Z
UID:19631-1772733600-1772737200@ctcenterforthebook.org
SUMMARY:Book Voyagers
DESCRIPTION:Join us for an exciting 4-session book series! “Rise with Resilience: From Struggle to Strength” explores how to manage and navigate the challenges life presents to us through reading and discussing four books. The focus is on resilience; the ability to bounce back\, be flexible and cope. Share your thoughts and ideas with the group as we see if we can increase our resilience together! Program dates are Thursdays at 6PM: March 5\, 12\, 19 and 26\, 2026. Participating families receive a copy of each book\, while supplies last. For more information or to register\, contact the library at (860) 243-9721\, or visit https://bplct.org/ .
URL:https://ctcenterforthebook.org/event/book-voyagers-6/
CATEGORIES:Book Voyagers,Discussion,Family Activity,March 2026
ATTACH;FMTTYPE=image/jpeg:https://ctcenterforthebook.org/wp-content/uploads/sites/7/2026/01/BVBalloon-2.jpg
END:VEVENT
BEGIN:VEVENT
DTSTART;TZID=America/New_York:20260129T173000
DTEND;TZID=America/New_York:20260129T190000
DTSTAMP:20260420T062152
CREATED:20260107T143514Z
LAST-MODIFIED:20260107T143514Z
UID:19625-1769707800-1769713200@ctcenterforthebook.org
SUMMARY:Whitney Literary Society to Debut at New Haven Museum
DESCRIPTION:Join NHM on Thurs.\, Jan. 29\, 2026\, at 5:30 p.m. (snow date Feb. 5\, 2026\, 5:30 p.m.) as we debut the Whitney Literary Society\, an informal\, bimonthly book discussion delving into the colorful history of New Haven. Each Whitney Literary Society event will cover a new book. For details click here: newhavenmuseum.org/52580-2/ \nThe bimonthly book discussion will delve into the colorful history of New Haven\, which was once the center of governance\, education\, trade\, and culture in Connecticut. The first discussion will include several chapters from “The Case of the Piglet’s Paternity: Trials from the New Haven Colony\, 1619-1963” by Jon C. Blue on\, which explores judicial trials in the early New Haven Colony.
URL:https://ctcenterforthebook.org/event/whitney-literary-society-to-debut-at-new-haven-museum/
CATEGORIES:Discussion,January 2026,Talks, Lectures, Presentations,Written & Spoken Word
ATTACH;FMTTYPE=image/jpeg:https://ctcenterforthebook.org/wp-content/uploads/sites/7/2026/01/599706192_1475608291232146_2126478036494186891_n.jpg
END:VEVENT
END:VCALENDAR