BEGIN:VCALENDAR
VERSION:2.0
PRODID:-//CT Center for the Book - ECPv6.15.17.1//NONSGML v1.0//EN
CALSCALE:GREGORIAN
METHOD:PUBLISH
X-ORIGINAL-URL:https://ctcenterforthebook.org
X-WR-CALDESC:Events for CT Center for the Book
REFRESH-INTERVAL;VALUE=DURATION:PT1H
X-Robots-Tag:noindex
X-PUBLISHED-TTL:PT1H
BEGIN:VTIMEZONE
TZID:America/New_York
BEGIN:DAYLIGHT
TZOFFSETFROM:-0500
TZOFFSETTO:-0400
TZNAME:EDT
DTSTART:20250309T070000
END:DAYLIGHT
BEGIN:STANDARD
TZOFFSETFROM:-0400
TZOFFSETTO:-0500
TZNAME:EST
DTSTART:20251102T060000
END:STANDARD
BEGIN:DAYLIGHT
TZOFFSETFROM:-0500
TZOFFSETTO:-0400
TZNAME:EDT
DTSTART:20260308T070000
END:DAYLIGHT
BEGIN:STANDARD
TZOFFSETFROM:-0400
TZOFFSETTO:-0500
TZNAME:EST
DTSTART:20261101T060000
END:STANDARD
BEGIN:DAYLIGHT
TZOFFSETFROM:-0500
TZOFFSETTO:-0400
TZNAME:EDT
DTSTART:20270314T070000
END:DAYLIGHT
BEGIN:STANDARD
TZOFFSETFROM:-0400
TZOFFSETTO:-0500
TZNAME:EST
DTSTART:20271107T060000
END:STANDARD
END:VTIMEZONE
BEGIN:VEVENT
DTSTART;TZID=America/New_York:20260321T100000
DTEND;TZID=America/New_York:20260321T150000
DTSTAMP:20260423T064347
CREATED:20260206T163401Z
LAST-MODIFIED:20260206T163401Z
UID:19668-1774087200-1774105200@ctcenterforthebook.org
SUMMARY:AMERICA 250 | Storytelling Workshop
DESCRIPTION:Life\, Liberty & The Pursuit of a Living\nIn 2026\, American Mural Project observes the 250th anniversary of the signing of the Declaration of Independence. This multi-part program explores how work has shaped our national consciousness and Connecticut communities across history through personal storytelling workshops\, live performance\, film screenings\, exhibits\, and lectures. Together\, these programs engage participants in remembering pivotal events\, amplifying personal stories\, and sparking dialogue about how labor continues to shape American culture and civic life today. \nGet to Work: Telling Your Story\nSaturday\, March 21  | 10am–3pm\nWORKSHOP\nThis daylong workshop\, led by master storyteller Terry Wolfisch Cole\, founder and producer of Tell Me Another events\, introduces participants to the art of personal storytelling. Through lecture\, writing exercises\, and small-group feedback\, participants learn how to choose\, structure\, and share their own stories of work. The day concludes with a practice performance where participants can present their stories to each other in a supportive environment. \n\n\nDetails: \nRegistration fee includes the workshop and admission to AMP. There will be time after the program to tour the exhibit. \nCoffee\, tea\, and snacks will be provided. Participants should bring any other beverage they want and also their own food (there will not be time to go out—it will be a working lunch). \nParticipants should come with a pen\, notebook\, and a few ideas—Terry will provide prompts as well. \nSchedule: \n10 am Slides and talk about the art of story telling\n11 am Breakout sessions\n12 pm Lunch/Individual coaching\n1 pm Practice performance for willing participants\n3 pm Workshop ends\, tours available \n\n\n\nTerry Wolfisch Cole is the founder and host of Tell Me Another\, a live storytelling show in the Hartford area. She is a Moth GrandSLAM champion whose story of running away from home was featured on the Moth Radio Hour and in Readers Digest. Terry has told stories onstage at numerous local shows throughout New England and the East Coast. Outside of her work as a content writer for a B2B SaaS marketing agency\, she teaches storytelling workshops and offers one-on-one coaching for a wide range of purposes including fundraising and professional development.
URL:https://ctcenterforthebook.org/event/america-250-storytelling-workshop/
CATEGORIES:Activity,America 250 CT,March 2026,Workshop
ATTACH;FMTTYPE=image/jpeg:https://ctcenterforthebook.org/wp-content/uploads/sites/7/2026/02/SKY_0479-1.jpg
END:VEVENT
BEGIN:VEVENT
DTSTART;TZID=America/New_York:20260316T140000
DTEND;TZID=America/New_York:20260316T150000
DTSTAMP:20260423T064347
CREATED:20260310T152001Z
LAST-MODIFIED:20260310T152001Z
UID:19681-1773669600-1773673200@ctcenterforthebook.org
SUMMARY:"How to Read a Book" - Four-part series at Fairfield Public Library with Dr. Mark Schenker
DESCRIPTION:Fairfield Public Library favorite presenter Mark Schenker returns for another installment of his “How To Read A Book“ series\, focusing this time on America 250\, our nation’s birth. Join us for a discussion of American literature spanning over 100 years. \nMondays at 2 pm: \nMarch 16: The Scarlet Letter (1850) by Nathaniel Hawthorne\nMarch 30: Life on the Mississippi (1883) by Mark Twain\nApril 13: The Grapes of Wrath (1939) by John Steinbeck\nApril 27: Song of Solomon (1977) by Toni Morrison \nRegistering for the first session commits you to the following three.
URL:https://ctcenterforthebook.org/event/how-to-read-a-book-four-part-series-at-fairfield-public-library-with-dr-mark-schenker/
CATEGORIES:America 250 CT,March 2026,Talks, Lectures, Presentations,Written & Spoken Word
ATTACH;FMTTYPE=image/png:https://ctcenterforthebook.org/wp-content/uploads/sites/7/2026/03/America-250-logo.png
END:VEVENT
BEGIN:VEVENT
DTSTART;TZID=America/New_York:20260219T180000
DTEND;TZID=America/New_York:20260219T190000
DTSTAMP:20260423T064347
CREATED:20260205T180950Z
LAST-MODIFIED:20260205T180950Z
UID:19663-1771524000-1771527600@ctcenterforthebook.org
SUMMARY:Portraits of Patriots: Colonel John Trumbull and Five Fellow Patriots From Connecticut in the American Revolution
DESCRIPTION:Join us for a special event to reflect on America at 250! \nAuthor Damien Cregeau will present material from this new book\, Portraits of Patriots: Colonel John Trumbull and Five Fellow Patriots From Connecticut in the American Revolution. The book tells the fascinating stories of the famous artist as he not only struggles to become an artist but also fights in combat as an aide de camp. It also illustrates his talented but troubled sister\, Faith Trumbull Huntington\, her husband\, General Jedediah Huntington\, his brother\, Colonel Ebenezer Huntington\, and Samuel Webb of Wethersfield\, who served as an aide de camp to Generals Putnam and Washington\, fought at the Battle of Bunker Hill and eventually held the Bible at Washington’s Presidential Inauguration in 1789. \nThis presentation brings these stories to life with a wonderful set of paintings by John Trumbull as well as the artwork of Faith (some of which are in the collection of the Connecticut Museum) and others. \nCopies of the book will be available for purchase by the author. \nTickets\n$15 General Admission\n$10 for Connecticut Museum Members\nFree for Connecticut Museum Member levels $150+ \n 
URL:https://ctcenterforthebook.org/event/portraits-of-patriots-colonel-john-trumbull-and-five-fellow-patriots-from-connecticut-in-the-american-revolution/
CATEGORIES:America 250 CT,Exhibitions, Tours & Openings,February 2026,Talks, Lectures, Presentations
ATTACH;FMTTYPE=image/jpeg:https://ctcenterforthebook.org/wp-content/uploads/sites/7/2026/02/Portraits-of-Patriots.jpg
END:VEVENT
END:VCALENDAR